Back to Multiple platform build/check report for BioC 3.16 |
|
This page was generated on 2022-08-06 11:06:15 -0400 (Sat, 06 Aug 2022).
Hostname | OS | Arch (*) | R version | Installed pkgs |
---|---|---|---|---|
nebbiolo2 | Linux (Ubuntu 20.04.4 LTS) | x86_64 | 4.2.1 (2022-06-23) -- "Funny-Looking Kid" | 4371 |
palomino4 | Windows Server 2022 Datacenter | x64 | 4.2.1 (2022-06-23 ucrt) -- "Funny-Looking Kid" | 4155 |
lconway | macOS 12.2.1 Monterey | x86_64 | 4.2.1 Patched (2022-07-09 r82577) -- "Funny-Looking Kid" | 4155 |
Click on any hostname to see more info about the system (e.g. compilers) (*) as reported by 'uname -p', except on Windows and Mac OS X |
To the developers/maintainers of the FELLA package: - Please allow up to 24 hours (and sometimes 48 hours) for your latest push to git@git.bioconductor.org:packages/FELLA.git to reflect on this report. See How and When does the builder pull? When will my changes propagate? for more information. - Make sure to use the following settings in order to reproduce any error or warning you see on this page. |
Package 657/2137 | Hostname | OS / Arch | INSTALL | BUILD | CHECK | BUILD BIN | ||||||||
FELLA 1.17.0 (landing page) Sergio Picart-Armada
| nebbiolo2 | Linux (Ubuntu 20.04.4 LTS) / x86_64 | OK | OK | OK | ![]() | ||||||||
palomino4 | Windows Server 2022 Datacenter / x64 | OK | OK | OK | OK | ![]() | ||||||||
lconway | macOS 12.2.1 Monterey / x86_64 | OK | ERROR | skipped | skipped | |||||||||
Package: FELLA |
Version: 1.17.0 |
Command: C:\cygwin\bin\curl.exe -O http://155.52.207.166/BBS/3.16/bioc/src/contrib/FELLA_1.17.0.tar.gz && rm -rf FELLA.buildbin-libdir && mkdir FELLA.buildbin-libdir && F:\biocbuild\bbs-3.16-bioc\R\bin\R.exe CMD INSTALL --merge-multiarch --build --library=FELLA.buildbin-libdir FELLA_1.17.0.tar.gz && F:\biocbuild\bbs-3.16-bioc\R\bin\R.exe CMD INSTALL FELLA_1.17.0.zip && rm FELLA_1.17.0.tar.gz FELLA_1.17.0.zip |
StartedAt: 2022-08-05 15:46:31 -0400 (Fri, 05 Aug 2022) |
EndedAt: 2022-08-05 15:46:56 -0400 (Fri, 05 Aug 2022) |
EllapsedTime: 24.8 seconds |
RetCode: 0 |
Status: OK |
############################################################################## ############################################################################## ### ### Running command: ### ### C:\cygwin\bin\curl.exe -O http://155.52.207.166/BBS/3.16/bioc/src/contrib/FELLA_1.17.0.tar.gz && rm -rf FELLA.buildbin-libdir && mkdir FELLA.buildbin-libdir && F:\biocbuild\bbs-3.16-bioc\R\bin\R.exe CMD INSTALL --merge-multiarch --build --library=FELLA.buildbin-libdir FELLA_1.17.0.tar.gz && F:\biocbuild\bbs-3.16-bioc\R\bin\R.exe CMD INSTALL FELLA_1.17.0.zip && rm FELLA_1.17.0.tar.gz FELLA_1.17.0.zip ### ############################################################################## ############################################################################## % Total % Received % Xferd Average Speed Time Time Time Current Dload Upload Total Spent Left Speed 0 0 0 0 0 0 0 0 --:--:-- --:--:-- --:--:-- 0 100 1000k 100 1000k 0 0 6394k 0 --:--:-- --:--:-- --:--:-- 6413k only one architecture so ignoring '--merge-multiarch' * installing *source* package 'FELLA' ... ** using staged installation ** R ** data ** inst ** byte-compile and prepare package for lazy loading ** help *** installing help indices ** building package indices ** installing vignettes ** testing if installed package can be loaded from temporary location ** testing if installed package can be loaded from final location ** testing if installed package keeps a record of temporary installation path * MD5 sums packaged installation of 'FELLA' as FELLA_1.17.0.zip * DONE (FELLA) * installing to library 'F:/biocbuild/bbs-3.16-bioc/R/library' package 'FELLA' successfully unpacked and MD5 sums checked