Back to Multiple platform build/check report for BioC 3.15
ABCD[E]FGHIJKLMNOPQRSTUVWXYZ

This page was generated on 2022-01-17 11:07:16 -0500 (Mon, 17 Jan 2022).

HostnameOSArch (*)R versionInstalled pkgs
nebbiolo1Linux (Ubuntu 20.04.4 LTS)x86_64R Under development (unstable) (2022-01-05 r81451) -- "Unsuffered Consequences" 4161
riesling1Windows Server 2019 Standardx64R Under development (unstable) (2021-11-21 r81221) -- "Unsuffered Consequences" 4056
palomino3Windows Server 2022 Datacenterx64R Under development (unstable) (2021-12-21 r81400 ucrt) -- "Unsuffered Consequences" 3998
merida1macOS 10.14.6 Mojavex86_64R Under development (unstable) (2022-01-05 r81451) -- "Unsuffered Consequences" 4115
Click on any hostname to see more info about the system (e.g. compilers)      (*) as reported by 'uname -p', except on Windows and Mac OS X

BUILD BIN results for ExiMiR on riesling1


To the developers/maintainers of the ExiMiR package:
- Please allow up to 24 hours (and sometimes 48 hours) for your latest push to git@git.bioconductor.org:packages/ExiMiR.git to
reflect on this report. See How and When does the builder pull? When will my changes propagate? here for more information.
- Make sure to use the following settings in order to reproduce any error or warning you see on this page.

raw results

Package 610/2074HostnameOS / ArchINSTALLBUILDCHECKBUILD BIN
ExiMiR 2.37.0  (landing page)
Sylvain Gubian
Snapshot Date: 2022-01-16 13:55:18 -0500 (Sun, 16 Jan 2022)
git_url: https://git.bioconductor.org/packages/ExiMiR
git_branch: master
git_last_commit: 6cc4006
git_last_commit_date: 2021-10-26 11:58:00 -0500 (Tue, 26 Oct 2021)
nebbiolo1Linux (Ubuntu 20.04.4 LTS) / x86_64  OK    OK    OK  UNNEEDED, same version is already published
riesling1Windows Server 2019 Standard / x64  OK    OK    OK    OK  
palomino3Windows Server 2022 Datacenter / x64  OK    OK    OK    OK  NO, package depends on 'Biobase' which is not available
merida1macOS 10.14.6 Mojave / x86_64  OK    OK    OK    OK  UNNEEDED, same version is already published

Summary

Package: ExiMiR
Version: 2.37.0
Command: rm -rf ExiMiR.buildbin-libdir && mkdir ExiMiR.buildbin-libdir && D:\biocbuild\bbs-3.15-bioc\R\bin\R.exe CMD INSTALL --build --library=ExiMiR.buildbin-libdir ExiMiR_2.37.0.tar.gz
StartedAt: 2022-01-16 20:57:45 -0500 (Sun, 16 Jan 2022)
EndedAt: 2022-01-16 20:58:43 -0500 (Sun, 16 Jan 2022)
EllapsedTime: 58.4 seconds
RetCode: 0
Status:   OK  
PackageFile: ExiMiR_2.37.0.zip
PackageFileSize: 1.167 MiB

Command output

##############################################################################
##############################################################################
###
### Running command:
###
###   rm -rf ExiMiR.buildbin-libdir && mkdir ExiMiR.buildbin-libdir && D:\biocbuild\bbs-3.15-bioc\R\bin\R.exe CMD INSTALL --build --library=ExiMiR.buildbin-libdir ExiMiR_2.37.0.tar.gz
###
##############################################################################
##############################################################################


* installing *source* package 'ExiMiR' ...
** using staged installation
** R
** data
** inst
** byte-compile and prepare package for lazy loading
** help
*** installing help indices
  converting help for package 'ExiMiR'
    finding HTML links ... done
    ExiMiR-package                          html  
    GSE19183                                html  
    GSE20122                                html  
    NormiR                                  html  
    NormiR.methods                          html  
    ReadExi                                 html  
    bg.correct.miR                          html  
    createAB                                html  
    galenv                                  html  
    make.gal.env                            html  
    norm.miR                                html  
    summarize.miR                           html  
** building package indices
** installing vignettes
** testing if installed package can be loaded from temporary location
** testing if installed package can be loaded from final location
** testing if installed package keeps a record of temporary installation path
* MD5 sums
packaged installation of 'ExiMiR' as ExiMiR_2.37.0.zip
* DONE (ExiMiR)