Name | Last modified | Size | Description | |
---|---|---|---|---|
Parent Directory | - | |||
buildsrc-out.txt | 29-Mar-2024 00:36 | 865 | ||
buildsrc-summary.dcf | 29-Mar-2024 00:36 | 414 | ||
checksrc-out.txt | 29-Mar-2024 00:36 | 11K | ||
checksrc-summary.dcf | 29-Mar-2024 00:36 | 410 | ||
install-out.txt | 29-Mar-2024 00:36 | 949 | ||
install-summary.dcf | 29-Mar-2024 00:36 | 257 | ||