Index of /checkResults/devel/bioc-LATEST/ExCluster/raw-results/nebbiolo1

[ICO]NameLast modifiedSizeDescription

[DIR]Parent Directory  -  
[TXT]buildsrc-out.txt27-Jan-2023 01:05 814  
[   ]buildsrc-summary.dcf27-Jan-2023 01:05 423  
[TXT]checksrc-out.txt27-Jan-2023 01:05 3.3K 
[   ]checksrc-summary.dcf27-Jan-2023 01:05 417  
[TXT]install-out.txt27-Jan-2023 01:05 953  
[   ]install-summary.dcf27-Jan-2023 01:05 263