Index of /checkResults/devel/bioc-LATEST/ExCluster/raw-results/merida1

[ICO]NameLast modifiedSizeDescription

[DIR]Parent Directory  -  
[TXT]buildbin-out.txt27-Jan-2023 01:09 1.2K 
[   ]buildbin-summary.dcf27-Jan-2023 01:09 542  
[TXT]buildsrc-out.txt27-Jan-2023 01:09 824  
[   ]buildsrc-summary.dcf27-Jan-2023 01:09 433  
[TXT]checksrc-out.txt27-Jan-2023 01:09 3.4K 
[   ]checksrc-summary.dcf27-Jan-2023 01:09 452  
[TXT]install-out.txt27-Jan-2023 01:09 1.0K 
[   ]install-summary.dcf27-Jan-2023 01:09 273