Index of /checkResults/devel/bioc-LATEST/ExCluster/raw-results
Name
Last modified
Size
Description
Parent Directory
-
nebbiolo1/
27-Jan-2023 01:05
-
info.dcf
27-Jan-2023 01:09
273
merida1/
27-Jan-2023 01:09
-