Name | Last modified | Size | Description | |
---|---|---|---|---|
Parent Directory | - | |||
install-out.txt | 17-Jul-2024 00:40 | 2.5K | ||
install-summary.dcf | 17-Jul-2024 00:40 | 284 | ||
buildsrc-out.txt | 17-Jul-2024 00:40 | 1.3K | ||
buildsrc-summary.dcf | 17-Jul-2024 00:40 | 479 | ||
checksrc-out.txt | 17-Jul-2024 00:40 | 6.0K | ||
checksrc-summary.dcf | 17-Jul-2024 00:40 | 479 | ||
buildbin-out.txt | 17-Jul-2024 00:40 | 2.7K | ||
buildbin-summary.dcf | 17-Jul-2024 00:40 | 551 | ||