Name | Last modified | Size | Description | |
---|---|---|---|---|
Parent Directory | - | |||
install-summary.dcf | 27-Jul-2024 00:38 | 269 | ||
checksrc-summary.dcf | 27-Jul-2024 00:38 | 434 | ||
buildsrc-summary.dcf | 27-Jul-2024 00:38 | 438 | ||
buildsrc-out.txt | 27-Jul-2024 00:38 | 1.3K | ||
install-out.txt | 27-Jul-2024 00:38 | 2.1K | ||
checksrc-out.txt | 27-Jul-2024 00:38 | 5.5K | ||