Name | Last modified | Size | Description | |
---|---|---|---|---|
Parent Directory | - | |||
buildbin-out.txt | 12-Jun-2024 04:41 | 4.6K | ||
buildbin-summary.dcf | 12-Jun-2024 04:41 | 561 | ||
buildsrc-out.txt | 12-Jun-2024 04:41 | 1.3K | ||
buildsrc-summary.dcf | 12-Jun-2024 04:41 | 443 | ||
checksrc-out.txt | 12-Jun-2024 04:41 | 5.6K | ||
checksrc-summary.dcf | 12-Jun-2024 04:41 | 464 | ||
install-out.txt | 12-Jun-2024 04:41 | 2.6K | ||
install-summary.dcf | 12-Jun-2024 04:41 | 280 | ||