Name | Last modified | Size | Description | |
---|---|---|---|---|
Parent Directory | - | |||
buildbin-out.txt | 02-May-2024 00:39 | 4.6K | ||
buildbin-summary.dcf | 02-May-2024 00:39 | 561 | ||
buildsrc-out.txt | 02-May-2024 00:39 | 1.3K | ||
buildsrc-summary.dcf | 02-May-2024 00:39 | 443 | ||
checksrc-out.txt | 02-May-2024 00:39 | 5.8K | ||
checksrc-summary.dcf | 02-May-2024 00:39 | 464 | ||
install-out.txt | 02-May-2024 00:39 | 2.6K | ||
install-summary.dcf | 02-May-2024 00:39 | 280 | ||