Index of /checkResults/devel/bioc-LATEST/EpiTxDb/raw-results/lconway

[ICO]NameLast modifiedSizeDescription

[DIR]Parent Directory  -  
[TXT]buildbin-out.txt02-Jul-2022 00:07 1.1K 
[   ]buildbin-summary.dcf02-Jul-2022 00:07 527  
[TXT]buildsrc-out.txt02-Jul-2022 00:07 878  
[   ]buildsrc-summary.dcf02-Jul-2022 00:07 426  
[TXT]checksrc-out.txt02-Jul-2022 00:07 3.6K 
[   ]checksrc-summary.dcf02-Jul-2022 00:07 442  
[TXT]install-out.txt02-Jul-2022 00:07 1.0K 
[   ]install-summary.dcf02-Jul-2022 00:07 268