Name | Last modified | Size | Description | |
---|---|---|---|---|
Parent Directory | - | |||
install-out.txt | 11-May-2024 00:37 | 1.3K | ||
install-summary.dcf | 11-May-2024 00:37 | 275 | ||
buildsrc-out.txt | 11-May-2024 00:37 | 890 | ||
buildsrc-summary.dcf | 11-May-2024 00:37 | 435 | ||
checksrc-out.txt | 11-May-2024 00:37 | 8.9K | ||
checksrc-summary.dcf | 11-May-2024 00:37 | 455 | ||
buildbin-out.txt | 11-May-2024 00:37 | 1.5K | ||
buildbin-summary.dcf | 11-May-2024 00:37 | 546 | ||