Name | Last modified | Size | Description | |
---|---|---|---|---|
Parent Directory | - | |||
buildbin-out.txt | 02-May-2024 00:39 | 4.6K | ||
buildbin-summary.dcf | 02-May-2024 00:39 | 578 | ||
buildsrc-out.txt | 02-May-2024 00:39 | 933 | ||
buildsrc-summary.dcf | 02-May-2024 00:39 | 452 | ||
checksrc-out.txt | 02-May-2024 00:39 | 3.8K | ||
checksrc-summary.dcf | 02-May-2024 00:39 | 476 | ||
install-out.txt | 02-May-2024 00:39 | 2.2K | ||
install-summary.dcf | 02-May-2024 00:39 | 285 | ||