Index of /checkResults/devel/bioc-LATEST/EnMCB/raw-results/palomino3

[ICO]NameLast modifiedSizeDescription

[DIR]Parent Directory  -  
[TXT]buildbin-out.txt29-Feb-2024 01:37 1.1K 
[   ]buildbin-summary.dcf29-Feb-2024 01:37 503  
[TXT]buildsrc-out.txt29-Feb-2024 01:37 889  
[   ]buildsrc-summary.dcf29-Feb-2024 01:37 444  
[TXT]checksrc-out.txt29-Feb-2024 01:37 3.8K 
[   ]checksrc-summary.dcf29-Feb-2024 01:37 439  
[TXT]install-out.txt29-Feb-2024 01:37 965  
[   ]install-summary.dcf29-Feb-2024 01:37 264