Index of /checkResults/devel/bioc-LATEST/EnMCB/raw-results/nebbiolo1

[ICO]NameLast modifiedSizeDescription

[DIR]Parent Directory  -  
[TXT]buildsrc-out.txt29-Feb-2024 01:36 861  
[   ]buildsrc-summary.dcf29-Feb-2024 01:36 411  
[TXT]checksrc-out.txt29-Feb-2024 01:36 3.7K 
[   ]checksrc-summary.dcf29-Feb-2024 01:36 406  
[TXT]install-out.txt29-Feb-2024 01:36 954  
[   ]install-summary.dcf29-Feb-2024 01:36 255