Index of /checkResults/devel/bioc-LATEST/EnMCB/raw-results/kunpeng2

[ICO]NameLast modifiedSizeDescription

[DIR]Parent Directory  -  
[TXT]buildsrc-out.txt02-Mar-2024 01:40 873  
[   ]buildsrc-summary.dcf02-Mar-2024 01:40 423  
[TXT]checksrc-out.txt02-Mar-2024 01:40 3.9K 
[   ]checksrc-summary.dcf02-Mar-2024 01:40 445  
[TXT]install-out.txt02-Mar-2024 01:40 1.0K 
[   ]install-summary.dcf02-Mar-2024 01:40 267