Index of /checkResults/devel/bioc-LATEST/EnMCB/raw-results/kunpeng2

[ICO]NameLast modifiedSizeDescription

[DIR]Parent Directory  -  
[TXT]buildsrc-out.txt07-Dec-2023 01:39 870  
[   ]buildsrc-summary.dcf07-Dec-2023 01:39 420  
[TXT]checksrc-out.txt07-Dec-2023 01:39 3.9K 
[   ]checksrc-summary.dcf07-Dec-2023 01:39 439  
[TXT]install-out.txt07-Dec-2023 01:39 972  
[   ]install-summary.dcf07-Dec-2023 01:39 264