Index of /checkResults/devel/bioc-LATEST/EnMCB/raw-results
Name
Last modified
Size
Description
Parent Directory
-
info.dcf
29-Nov-2023 01:39
1.0K
kunpeng2/
29-Nov-2023 01:39
-
merida1/
29-Nov-2023 01:38
-
nebbiolo1/
29-Nov-2023 01:35
-
palomino3/
29-Nov-2023 01:36
-