Name | Last modified | Size | Description | |
---|---|---|---|---|
Parent Directory | - | |||
install-summary.dcf | 27-Jul-2024 00:38 | 268 | ||
install-out.txt | 27-Jul-2024 00:38 | 967 | ||
checksrc-summary.dcf | 27-Jul-2024 00:38 | 432 | ||
checksrc-out.txt | 27-Jul-2024 00:38 | 4.1K | ||
buildsrc-summary.dcf | 27-Jul-2024 00:38 | 437 | ||
buildsrc-out.txt | 27-Jul-2024 00:38 | 912 | ||