Index of /checkResults/devel/bioc-LATEST/EasyCellType/raw-results/nebbiolo1

[ICO]NameLast modifiedSizeDescription

[DIR]Parent Directory  -  
[TXT]buildsrc-out.txt23-Feb-2024 02:48 888  
[   ]buildsrc-summary.dcf23-Feb-2024 02:48 430  
[TXT]checksrc-out.txt23-Feb-2024 02:48 4.0K 
[   ]checksrc-summary.dcf23-Feb-2024 02:48 432  
[TXT]install-out.txt23-Feb-2024 02:48 967  
[   ]install-summary.dcf23-Feb-2024 02:48 268