Index of /checkResults/devel/bioc-LATEST/EasyCellType/raw-results/kunpeng2
Name
Last modified
Size
Description
Parent Directory
-
buildsrc-out.txt
30-Nov-2023 01:38
931
buildsrc-summary.dcf
30-Nov-2023 01:38
350
install-out.txt
30-Nov-2023 01:38
685
install-summary.dcf
30-Nov-2023 01:38
279