Index of /checkResults/devel/bioc-LATEST/EasyCellType/raw-results
Name
Last modified
Size
Description
Parent Directory
-
nebbiolo1/
07-Dec-2023 01:35
-
palomino3/
07-Dec-2023 01:36
-
merida1/
07-Dec-2023 01:38
-
info.dcf
07-Dec-2023 01:39
1.1K
kunpeng2/
07-Dec-2023 01:39
-