Back to Multiple platform build/check report for BioC 3.14
ABCD[E]FGHIJKLMNOPQRSTUVWXYZ

This page was generated on 2021-10-21 12:04:45 -0400 (Thu, 21 Oct 2021).

INSTALL results for ERSSA on riesling1

To the developers/maintainers of the ERSSA package:
- Please allow up to 24 hours (and sometimes 48 hours) for your latest push to git@git.bioconductor.org:packages/ERSSA.git to
reflect on this report. See How and When does the builder pull? When will my changes propagate? here for more information.
- Make sure to use the following settings in order to reproduce any error or warning you see on this page.

raw results

Package 599/2075HostnameOS / ArchINSTALLBUILDCHECKBUILD BIN
ERSSA 1.11.0  (landing page)
Zixuan Shao
Snapshot Date: 2021-10-20 14:50:05 -0400 (Wed, 20 Oct 2021)
git_url: https://git.bioconductor.org/packages/ERSSA
git_branch: master
git_last_commit: c7fc6ff
git_last_commit_date: 2021-05-19 12:38:01 -0400 (Wed, 19 May 2021)
nebbiolo2Linux (Ubuntu 20.04.2 LTS) / x86_64  OK    OK    OK  UNNEEDED, same version is already published
riesling1Windows Server 2019 Standard / x64  OK    OK    OK    OK  UNNEEDED, same version is already published
merida1macOS 10.14.6 Mojave / x86_64  OK    OK    OK    OK  UNNEEDED, same version is already published

Summary

Package: ERSSA
Version: 1.11.0
Command: C:\cygwin\bin\curl.exe -O http://155.52.207.166/BBS/3.14/bioc/src/contrib/ERSSA_1.11.0.tar.gz && rm -rf ERSSA.buildbin-libdir && mkdir ERSSA.buildbin-libdir && D:\biocbuild\bbs-3.14-bioc\R\bin\R.exe CMD INSTALL --merge-multiarch --build --library=ERSSA.buildbin-libdir ERSSA_1.11.0.tar.gz && D:\biocbuild\bbs-3.14-bioc\R\bin\R.exe CMD INSTALL ERSSA_1.11.0.zip && rm ERSSA_1.11.0.tar.gz ERSSA_1.11.0.zip
StartedAt: 2021-10-20 18:12:53 -0400 (Wed, 20 Oct 2021)
EndedAt: 2021-10-20 18:16:22 -0400 (Wed, 20 Oct 2021)
EllapsedTime: 209.5 seconds
RetCode: 0
Status:   OK  

Command output

##############################################################################
##############################################################################
###
### Running command:
###
###   C:\cygwin\bin\curl.exe -O http://155.52.207.166/BBS/3.14/bioc/src/contrib/ERSSA_1.11.0.tar.gz && rm -rf ERSSA.buildbin-libdir && mkdir ERSSA.buildbin-libdir && D:\biocbuild\bbs-3.14-bioc\R\bin\R.exe CMD INSTALL --merge-multiarch --build --library=ERSSA.buildbin-libdir ERSSA_1.11.0.tar.gz && D:\biocbuild\bbs-3.14-bioc\R\bin\R.exe CMD INSTALL ERSSA_1.11.0.zip && rm ERSSA_1.11.0.tar.gz ERSSA_1.11.0.zip
###
##############################################################################
##############################################################################


  % Total    % Received % Xferd  Average Speed   Time    Time     Time  Current
                                 Dload  Upload   Total   Spent    Left  Speed

  0     0    0     0    0     0      0      0 --:--:-- --:--:-- --:--:--     0
 35 2775k   35  992k    0     0  2450k      0  0:00:01 --:--:--  0:00:01 2444k
100 2775k  100 2775k    0     0  3360k      0 --:--:-- --:--:-- --:--:-- 3356k

install for i386

* installing *source* package 'ERSSA' ...
** using staged installation
** R
** data
*** moving datasets to lazyload DB
** inst
** byte-compile and prepare package for lazy loading
** help
*** installing help indices
  converting help for package 'ERSSA'
    finding HTML links ... done
    comb_gen                                html  
    combinations.partial                    html  
    condition_table.full                    html  
    condition_table.partial                 html  
    count_filter                            html  
    count_table.filtered.partial            html  
    count_table.full                        html  
    count_table.partial                     html  
    deg.partial                             html  
    erssa                                   html  
    erssa_deseq2                            html  
    erssa_deseq2_parallel                   html  
    erssa_edger                             html  
    erssa_edger_parallel                    html  
    ggplot2_TPR_FPRPlot                     html  
    ggplot2_dotplot                         html  
    ggplot2_intersectPlot                   html  
    ggplot2_marginPlot                      html  
** building package indices
** installing vignettes
** testing if installed package can be loaded from temporary location
** testing if installed package can be loaded from final location
** testing if installed package keeps a record of temporary installation path

install for x64

* installing *source* package 'ERSSA' ...
** testing if installed package can be loaded
* MD5 sums
packaged installation of 'ERSSA' as ERSSA_1.11.0.zip
* DONE (ERSSA)
* installing to library 'D:/biocbuild/bbs-3.14-bioc/R/library'
package 'ERSSA' successfully unpacked and MD5 sums checked