Name | Last modified | Size | Description | |
---|---|---|---|---|
Parent Directory | - | |||
checksrc-out.txt | 18-Jul-2024 00:38 | 4.5K | ||
install-out.txt | 18-Jul-2024 00:38 | 946 | ||
buildsrc-out.txt | 18-Jul-2024 00:38 | 862 | ||
buildsrc-summary.dcf | 18-Jul-2024 00:38 | 418 | ||
checksrc-summary.dcf | 18-Jul-2024 00:38 | 407 | ||
install-summary.dcf | 18-Jul-2024 00:38 | 255 | ||