Name | Last modified | Size | Description | |
---|---|---|---|---|
Parent Directory | - | |||
buildsrc-out.txt | 09-Jul-2024 00:44 | 4.9K | ||
checksrc-out.txt | 05-Jul-2024 00:44 | 4.6K | ||
install-out.txt | 06-Jul-2024 00:44 | 608 | ||
checksrc-summary.dcf | 05-Jul-2024 00:44 | 398 | ||
buildsrc-summary.dcf | 09-Jul-2024 00:44 | 318 | ||
install-summary.dcf | 06-Jul-2024 00:44 | 245 | ||