Back to Multiple platform build/check report for BioC 3.15
ABCD[E]FGHIJKLMNOPQRSTUVWXYZ

This page was generated on 2021-11-27 14:05:01 -0500 (Sat, 27 Nov 2021).

BUILD BIN results for EGSEA on riesling1

To the developers/maintainers of the EGSEA package:
- Please allow up to 24 hours (and sometimes 48 hours) for your latest push to git@git.bioconductor.org:packages/EGSEA.git to
reflect on this report. See How and When does the builder pull? When will my changes propagate? here for more information.
- Make sure to use the following settings in order to reproduce any error or warning you see on this page.

raw results

Package 565/2068HostnameOS / ArchINSTALLBUILDCHECKBUILD BIN
EGSEA 1.23.0  (landing page)
Monther Alhamdoosh
Snapshot Date: 2021-11-26 14:50:14 -0500 (Fri, 26 Nov 2021)
git_url: https://git.bioconductor.org/packages/EGSEA
git_branch: master
git_last_commit: b38c608
git_last_commit_date: 2021-10-26 12:27:44 -0500 (Tue, 26 Oct 2021)
nebbiolo1Linux (Ubuntu 20.04.3 LTS) / x86_64  OK    OK    WARNINGS  UNNEEDED, same version is already published
riesling1Windows Server 2019 Standard / x64  OK    OK    WARNINGS    OK  
merida1macOS 10.14.6 Mojave / x86_64  OK    OK    WARNINGS    OK  UNNEEDED, same version is already published

Summary

Package: EGSEA
Version: 1.23.0
Command: rm -rf EGSEA.buildbin-libdir && mkdir EGSEA.buildbin-libdir && D:\biocbuild\bbs-3.15-bioc\R\bin\R.exe CMD INSTALL --merge-multiarch --build --library=EGSEA.buildbin-libdir EGSEA_1.23.0.tar.gz
StartedAt: 2021-11-27 05:53:36 -0500 (Sat, 27 Nov 2021)
EndedAt: 2021-11-27 05:58:34 -0500 (Sat, 27 Nov 2021)
EllapsedTime: 298.1 seconds
RetCode: 0
Status:   OK  
PackageFile: EGSEA_1.23.0.zip
PackageFileSize: 2.311 MiB

Command output

##############################################################################
##############################################################################
###
### Running command:
###
###   rm -rf EGSEA.buildbin-libdir && mkdir EGSEA.buildbin-libdir && D:\biocbuild\bbs-3.15-bioc\R\bin\R.exe CMD INSTALL --merge-multiarch --build --library=EGSEA.buildbin-libdir EGSEA_1.23.0.tar.gz
###
##############################################################################
##############################################################################


only one architecture so ignoring '--merge-multiarch'
* installing *source* package 'EGSEA' ...
** using staged installation
** R
** data
** inst
** byte-compile and prepare package for lazy loading

groupGOTerms: 	GOBPTerm, GOMFTerm, GOCCTerm environments built.
** help
*** installing help indices
  converting help for package 'EGSEA'
    finding HTML links ... done
    EGSEA-package                           html  
    EGSEAResults-methods                    html  
    GSCollectionIndex-methods               html  
    egsea-aux                               html  
    egsea-index                             html  
    egsea-main                              html  
REDIRECT:topic	 Previous alias or file overwritten by alias: D:/biocbuild/bbs-3.15-bioc/meat/EGSEA.buildbin-libdir/00LOCK-EGSEA/00new/EGSEA/help/egsea.html
** building package indices
** installing vignettes
** testing if installed package can be loaded from temporary location

groupGOTerms: 	GOBPTerm, GOMFTerm, GOCCTerm environments built.
** testing if installed package can be loaded from final location

groupGOTerms: 	GOBPTerm, GOMFTerm, GOCCTerm environments built.
** testing if installed package keeps a record of temporary installation path
* MD5 sums
packaged installation of 'EGSEA' as EGSEA_1.23.0.zip
* DONE (EGSEA)