Back to Multiple platform build/check report for BioC 3.15
ABCD[E]FGHIJKLMNOPQRSTUVWXYZ

This page was generated on 2022-01-20 11:07:11 -0500 (Thu, 20 Jan 2022).

HostnameOSArch (*)R versionInstalled pkgs
nebbiolo1Linux (Ubuntu 20.04.4 LTS)x86_64R Under development (unstable) (2022-01-05 r81451) -- "Unsuffered Consequences" 4162
riesling1Windows Server 2019 Standardx64R Under development (unstable) (2021-11-21 r81221) -- "Unsuffered Consequences" 4057
palomino3Windows Server 2022 Datacenterx64R Under development (unstable) (2021-12-21 r81400 ucrt) -- "Unsuffered Consequences" 3999
merida1macOS 10.14.6 Mojavex86_64R Under development (unstable) (2022-01-05 r81451) -- "Unsuffered Consequences" 4116
Click on any hostname to see more info about the system (e.g. compilers)      (*) as reported by 'uname -p', except on Windows and Mac OS X

INSTALL results for EDASeq on riesling1


To the developers/maintainers of the EDASeq package:
- Please allow up to 24 hours (and sometimes 48 hours) for your latest push to git@git.bioconductor.org:packages/EDASeq.git to
reflect on this report. See How and When does the builder pull? When will my changes propagate? here for more information.
- Make sure to use the following settings in order to reproduce any error or warning you see on this page.

raw results

Package 564/2074HostnameOS / ArchINSTALLBUILDCHECKBUILD BIN
EDASeq 2.29.0  (landing page)
Davide Risso
Snapshot Date: 2022-01-19 13:55:26 -0500 (Wed, 19 Jan 2022)
git_url: https://git.bioconductor.org/packages/EDASeq
git_branch: master
git_last_commit: 37839c7
git_last_commit_date: 2021-10-26 12:00:24 -0500 (Tue, 26 Oct 2021)
nebbiolo1Linux (Ubuntu 20.04.4 LTS) / x86_64  OK    OK    OK  UNNEEDED, same version is already published
riesling1Windows Server 2019 Standard / x64  OK    OK    OK    OK  
palomino3Windows Server 2022 Datacenter / x64  OK    OK    OK    OK  NO, package depends on 'Biobase' which is not available
merida1macOS 10.14.6 Mojave / x86_64  OK    OK    OK    OK  UNNEEDED, same version is already published

Summary

Package: EDASeq
Version: 2.29.0
Command: D:\biocbuild\bbs-3.15-bioc\R\bin\R.exe CMD INSTALL EDASeq
StartedAt: 2022-01-19 15:59:52 -0500 (Wed, 19 Jan 2022)
EndedAt: 2022-01-19 16:01:15 -0500 (Wed, 19 Jan 2022)
EllapsedTime: 82.7 seconds
RetCode: 0
Status:   OK  

Command output

##############################################################################
##############################################################################
###
### Running command:
###
###   D:\biocbuild\bbs-3.15-bioc\R\bin\R.exe CMD INSTALL EDASeq
###
##############################################################################
##############################################################################


* installing to library 'D:/biocbuild/bbs-3.15-bioc/R/library'
* installing *source* package 'EDASeq' ...
** using staged installation
** R
** data
** inst
** byte-compile and prepare package for lazy loading
** help
*** installing help indices
  converting help for package 'EDASeq'
    finding HTML links ... done
    EDASeq-package                          html  
    finding level-2 HTML links ... done

    MDPlot-methods                          html  
    SeqExpressionSet-class                  html  
    barplot-methods                         html  
    betweenLaneNormalization-methods        html  
    biasBoxplot-methods                     html  
    biasPlot-methods                        html  
    boxplot-methods                         html  
    getGeneLengthAndGCContent               html  
    meanVarPlot-methods                     html  
    newSeqExpressionSet                     html  
    plot-methods                            html  
    plotNtFrequency-methods                 html  
    plotPCA-methods                         html  
    plotQuality-methods                     html  
    plotRLE-methods                         html  
    withinLaneNormalization-methods         html  
    yeastGC                                 html  
    yeastLength                             html  
** building package indices
** installing vignettes
** testing if installed package can be loaded from temporary location
** testing if installed package can be loaded from final location
** testing if installed package keeps a record of temporary installation path
* DONE (EDASeq)
Making 'packages.html' ... done