Index of /checkResults/devel/bioc-LATEST/EDASeq/raw-results/kunpeng2

[ICO]NameLast modifiedSizeDescription

[DIR]Parent Directory  -  
[   ]install-summary.dcf16-May-2024 02:46 268  
[   ]buildsrc-summary.dcf16-May-2024 02:46 424  
[   ]checksrc-summary.dcf16-May-2024 02:46 447  
[TXT]buildsrc-out.txt16-May-2024 02:46 876  
[TXT]install-out.txt16-May-2024 02:46 1.0K 
[TXT]checksrc-out.txt16-May-2024 02:46 3.9K