Back to Multiple platform build/check report for BioC 3.17:   simplified   long
ABCD[E]FGHIJKLMNOPQRSTUVWXYZ

This page was generated on 2023-03-24 11:06:44 -0400 (Fri, 24 Mar 2023).

HostnameOSArch (*)R versionInstalled pkgs
nebbiolo1Linux (Ubuntu 22.04.1 LTS)x86_64R Under development (unstable) (2023-03-16 r83996) -- "Unsuffered Consequences" 4546
palomino3Windows Server 2022 Datacenterx64R Under development (unstable) (2023-03-15 r83984 ucrt) -- "Unsuffered Consequences" 4307
merida1macOS 10.14.6 Mojavex86_64R Under development (unstable) (2023-03-16 r83985) -- "Unsuffered Consequences" 4299
Click on any hostname to see more info about the system (e.g. compilers)      (*) as reported by 'uname -p', except on Windows and Mac OS X

CHECK results for EBcoexpress on merida1


To the developers/maintainers of the EBcoexpress package:
- Please allow up to 24 hours (and sometimes 48 hours) for your latest push to git@git.bioconductor.org:packages/EBcoexpress.git to
reflect on this report. See How and When does the builder pull? When will my changes propagate? for more information.
- Make sure to use the following settings in order to reproduce any error or warning you see on this page.

raw results

Package 596/2195HostnameOS / ArchINSTALLBUILDCHECKBUILD BIN
EBcoexpress 1.43.0  (landing page)
John A. Dawson
Snapshot Date: 2023-03-23 14:00:15 -0400 (Thu, 23 Mar 2023)
git_url: https://git.bioconductor.org/packages/EBcoexpress
git_branch: devel
git_last_commit: 7d69839
git_last_commit_date: 2022-11-01 11:06:54 -0400 (Tue, 01 Nov 2022)
nebbiolo1Linux (Ubuntu 22.04.1 LTS) / x86_64  OK    OK    WARNINGS  UNNEEDED, same version is already published
palomino3Windows Server 2022 Datacenter / x64  OK    OK    WARNINGS    OK  UNNEEDED, same version is already published
merida1macOS 10.14.6 Mojave / x86_64  OK    OK    OK    OK  UNNEEDED, same version is already published

Summary

Package: EBcoexpress
Version: 1.43.0
Command: /Library/Frameworks/R.framework/Resources/bin/R CMD check --install=check:EBcoexpress.install-out.txt --library=/Library/Frameworks/R.framework/Resources/library --no-vignettes --timings EBcoexpress_1.43.0.tar.gz
StartedAt: 2023-03-24 01:00:36 -0400 (Fri, 24 Mar 2023)
EndedAt: 2023-03-24 01:02:02 -0400 (Fri, 24 Mar 2023)
EllapsedTime: 86.1 seconds
RetCode: 0
Status:   OK  
CheckDir: EBcoexpress.Rcheck
Warnings: 0

Command output

##############################################################################
##############################################################################
###
### Running command:
###
###   /Library/Frameworks/R.framework/Resources/bin/R CMD check --install=check:EBcoexpress.install-out.txt --library=/Library/Frameworks/R.framework/Resources/library --no-vignettes --timings EBcoexpress_1.43.0.tar.gz
###
##############################################################################
##############################################################################


* using log directory ‘/Users/biocbuild/bbs-3.17-bioc/meat/EBcoexpress.Rcheck’
* using R Under development (unstable) (2023-03-16 r83985)
* using platform: x86_64-apple-darwin17.0 (64-bit)
* R was compiled by
    Apple clang version 12.0.0 (clang-1200.0.32.29)
    GNU Fortran (GCC) 8.2.0
* running under: macOS Mojave 10.14.6
* using session charset: UTF-8
* using option ‘--no-vignettes’
* checking for file ‘EBcoexpress/DESCRIPTION’ ... OK
* checking extension type ... Package
* this is package ‘EBcoexpress’ version ‘1.43.0’
* checking package namespace information ... OK
* checking package dependencies ... OK
* checking if this is a source package ... OK
* checking if there is a namespace ... OK
* checking for hidden files and directories ... OK
* checking for portable file names ... OK
* checking for sufficient/correct file permissions ... OK
* checking whether package ‘EBcoexpress’ can be installed ... OK
* used C compiler: ‘Apple clang version 11.0.0 (clang-1100.0.33.17)’
* used SDK: ‘’
* checking installed package size ... OK
* checking package directory ... OK
* checking ‘build’ directory ... OK
* checking DESCRIPTION meta-information ... NOTE
Malformed Description field: should contain one or more complete sentences.
* checking top-level files ... OK
* checking for left-over files ... OK
* checking index information ... OK
* checking package subdirectories ... OK
* checking R files for non-ASCII characters ... OK
* checking R files for syntax errors ... OK
* checking whether the package can be loaded ... OK
* checking whether the package can be loaded with stated dependencies ... OK
* checking whether the package can be unloaded cleanly ... OK
* checking whether the namespace can be loaded with stated dependencies ... OK
* checking whether the namespace can be unloaded cleanly ... OK
* checking dependencies in R code ... NOTE
'library' or 'require' calls in package code:
  ‘colorspace’ ‘graph’ ‘igraph’
  Please use :: or requireNamespace() instead.
  See section 'Suggested packages' in the 'Writing R Extensions' manual.
Packages in Depends field not imported from:
  ‘EBarrays’ ‘mclust’ ‘minqa’
  These packages need to be imported from (in the NAMESPACE file)
  for when this namespace is loaded but not attached.
* checking S3 generic/method consistency ... OK
* checking replacement functions ... OK
* checking foreign function calls ... OK
* checking R code for possible problems ... NOTE
rankMyGenes: warning in sort(table(allNames), decr = TRUE): partial
  argument match of 'decr' to 'decreasing'
bwmc: no visible binding for global variable ‘median’
bwmc: no visible binding for global variable ‘mad’
ebCoexpressFullTCAECM: no visible global function definition for
  ‘bobyqa’
ebCoexpressOneStep: no visible global function definition for ‘bobyqa’
initializeHP : getMclustHPests : devHelper: no visible global function
  definition for ‘density’
initializeHP : getMclustHPests : devHelper : fundDev: no visible global
  function definition for ‘dnorm’
initializeHP : getMclustHPests: no visible global function definition
  for ‘Mclust’
initializeHP : getMclustHPests : checkMyData : funa: no visible global
  function definition for ‘dnorm’
initializeHP : getMclustHPests : checkMyData: no visible global
  function definition for ‘density’
initializeHP : getMclustHPests : checkMyData: no visible global
  function definition for ‘lines’
initializeHP: no visible global function definition for ‘par’
makeMyD: no visible global function definition for ‘cor’
priorDiagnostic : funa: no visible global function definition for
  ‘dnorm’
priorDiagnostic: no visible global function definition for ‘density’
priorDiagnostic: no visible global function definition for ‘lines’
showNetwork: no visible global function definition for ‘graph.full’
showNetwork: no visible global function definition for ‘hex’
showNetwork: no visible global function definition for ‘RGB’
showNetwork: no visible global function definition for ‘layout.circle’
showPair: no visible global function definition for ‘palette’
showPair : getUsed: no visible global function definition for ‘median’
showPair : getUsed: no visible global function definition for ‘mad’
showPair: no visible global function definition for ‘box’
showPair: no visible global function definition for ‘lm’
showPair: no visible binding for global variable ‘segments’
Undefined global functions or variables:
  Mclust RGB bobyqa box cor density dnorm graph.full hex layout.circle
  lines lm mad median palette par segments
Consider adding
  importFrom("grDevices", "palette")
  importFrom("graphics", "box", "lines", "par", "segments")
  importFrom("stats", "cor", "density", "dnorm", "lm", "mad", "median")
to your NAMESPACE file.
* checking Rd files ... OK
* checking Rd metadata ... OK
* checking Rd cross-references ... OK
* checking for missing documentation entries ... OK
* checking for code/documentation mismatches ... OK
* checking Rd \usage sections ... OK
* checking Rd contents ... OK
* checking for unstated dependencies in examples ... OK
* checking contents of ‘data’ directory ... OK
* checking data for non-ASCII characters ... OK
* checking data for ASCII and uncompressed saves ... OK
* checking line endings in C/C++/Fortran sources/headers ... OK
* checking compiled code ... NOTE
Note: information on .o files is not available
* checking sizes of PDF files under ‘inst/doc’ ... OK
* checking files in ‘vignettes’ ... OK
* checking examples ... OK
* checking for unstated dependencies in vignettes ... OK
* checking package vignettes in ‘inst/doc’ ... OK
* checking running R code from vignettes ... SKIPPED
* checking re-building of vignette outputs ... SKIPPED
* checking PDF version of manual ... OK
* DONE

Status: 4 NOTEs
See
  ‘/Users/biocbuild/bbs-3.17-bioc/meat/EBcoexpress.Rcheck/00check.log’
for details.



Installation output

EBcoexpress.Rcheck/00install.out

##############################################################################
##############################################################################
###
### Running command:
###
###   /Library/Frameworks/R.framework/Resources/bin/R CMD INSTALL EBcoexpress
###
##############################################################################
##############################################################################


* installing to library ‘/Library/Frameworks/R.framework/Versions/4.3/Resources/library’
* installing *source* package ‘EBcoexpress’ ...
** using staged installation
** libs
using C compiler: ‘Apple clang version 11.0.0 (clang-1100.0.33.17)’
using SDK: ‘’
clang -mmacosx-version-min=10.13 -I"/Library/Frameworks/R.framework/Resources/include" -DNDEBUG   -I/usr/local/include    -fPIC  -Wall -g -O2  -c EBcoexpress.c -o EBcoexpress.o
clang -mmacosx-version-min=10.13 -dynamiclib -Wl,-headerpad_max_install_names -undefined dynamic_lookup -single_module -multiply_defined suppress -L/Library/Frameworks/R.framework/Resources/lib -L/usr/local/lib -o EBcoexpress.so EBcoexpress.o -F/Library/Frameworks/R.framework/.. -framework R -Wl,-framework -Wl,CoreFoundation
installing to /Library/Frameworks/R.framework/Versions/4.3/Resources/library/00LOCK-EBcoexpress/00new/EBcoexpress/libs
** R
** data
** demo
** byte-compile and prepare package for lazy loading
** help
*** installing help indices
** building package indices
** installing vignettes
** testing if installed package can be loaded from temporary location
** checking absolute paths in shared objects and dynamic libraries
** testing if installed package can be loaded from final location
** testing if installed package keeps a record of temporary installation path
* DONE (EBcoexpress)

Tests output


Example timings

EBcoexpress.Rcheck/EBcoexpress-Ex.timings

nameusersystemelapsed
ebCoexpressMeta1.5900.0212.203
ebCoexpressSeries0.8070.0091.109
fiftyGenes0.0020.0020.005
initializeHP0.5630.0060.787
makeMyD0.0560.0030.082
priorDiagnostic1.1400.0111.584
rankMyGenes0.8090.0071.126
showNetwork1.5490.0352.233
showPair0.0480.0050.071
utilities0.0080.0020.012