Name | Last modified | Size | Description | |
---|---|---|---|---|
Parent Directory | - | |||
buildsrc-out.txt | 18-May-2024 00:36 | 927 | ||
buildsrc-summary.dcf | 18-May-2024 00:36 | 426 | ||
checksrc-out.txt | 18-May-2024 00:36 | 3.9K | ||
checksrc-summary.dcf | 18-May-2024 00:36 | 417 | ||
install-out.txt | 18-May-2024 00:36 | 1.4K | ||
install-summary.dcf | 18-May-2024 00:36 | 260 | ||