Index of /checkResults/devel/bioc-LATEST/EBSEA/raw-results/nebbiolo2

[ICO]NameLast modifiedSizeDescription

[DIR]Parent Directory  -  
[TXT]buildsrc-out.txt02-Jul-2022 00:04 861  
[   ]buildsrc-summary.dcf02-Jul-2022 00:04 411  
[TXT]checksrc-out.txt02-Jul-2022 00:04 3.2K 
[   ]checksrc-summary.dcf02-Jul-2022 00:04 416  
[TXT]install-out.txt02-Jul-2022 00:04 941  
[   ]install-summary.dcf02-Jul-2022 00:04 255