Index of /checkResults/devel/bioc-LATEST/EBSEA/raw-results/lconway

[ICO]NameLast modifiedSizeDescription

[DIR]Parent Directory  -  
[TXT]buildbin-out.txt25-Jun-2022 00:07 1.1K 
[   ]buildbin-summary.dcf25-Jun-2022 00:07 518  
[TXT]buildsrc-out.txt25-Jun-2022 00:07 871  
[   ]buildsrc-summary.dcf25-Jun-2022 00:07 421  
[TXT]checksrc-out.txt25-Jun-2022 00:07 3.2K 
[   ]checksrc-summary.dcf25-Jun-2022 00:07 436  
[TXT]install-out.txt25-Jun-2022 00:07 1.0K 
[   ]install-summary.dcf25-Jun-2022 00:07 265