Name | Last modified | Size | Description | |
---|---|---|---|---|
Parent Directory | - | |||
install-out.txt | 14-Jun-2024 01:18 | 11K | ||
install-summary.dcf | 14-Jun-2024 01:18 | 259 | ||
buildsrc-out.txt | 14-Jun-2024 01:18 | 860 | ||
buildsrc-summary.dcf | 14-Jun-2024 01:18 | 423 | ||
checksrc-summary.dcf | 14-Jun-2024 01:18 | 413 | ||
checksrc-out.txt | 14-Jun-2024 01:18 | 6.8K | ||