Back to Multiple platform build/check report for BioC 3.15
ABC[D]EFGHIJKLMNOPQRSTUVWXYZ

This page was generated on 2021-11-27 14:05:00 -0500 (Sat, 27 Nov 2021).

BUILD results for DropletUtils on riesling1

To the developers/maintainers of the DropletUtils package:
- Please allow up to 24 hours (and sometimes 48 hours) for your latest push to git@git.bioconductor.org:packages/DropletUtils.git to
reflect on this report. See How and When does the builder pull? When will my changes propagate? here for more information.
- Make sure to use the following settings in order to reproduce any error or warning you see on this page.

raw results

Package 540/2068HostnameOS / ArchINSTALLBUILDCHECKBUILD BIN
DropletUtils 1.15.2  (landing page)
Jonathan Griffiths
Snapshot Date: 2021-11-26 14:50:14 -0500 (Fri, 26 Nov 2021)
git_url: https://git.bioconductor.org/packages/DropletUtils
git_branch: master
git_last_commit: b5fd73b
git_last_commit_date: 2021-11-11 13:22:23 -0500 (Thu, 11 Nov 2021)
nebbiolo1Linux (Ubuntu 20.04.3 LTS) / x86_64  OK    OK    OK  UNNEEDED, same version is already published
riesling1Windows Server 2019 Standard / x64  OK    OK    OK    OK  
merida1macOS 10.14.6 Mojave / x86_64  OK    OK    OK    OK  UNNEEDED, same version is already published

Summary

Package: DropletUtils
Version: 1.15.2
Command: chmod a+r DropletUtils -R && D:\biocbuild\bbs-3.15-bioc\R\bin\R.exe CMD build --keep-empty-dirs --no-resave-data DropletUtils
StartedAt: 2021-11-26 20:50:46 -0500 (Fri, 26 Nov 2021)
EndedAt: 2021-11-26 20:55:03 -0500 (Fri, 26 Nov 2021)
EllapsedTime: 256.6 seconds
RetCode: 0
Status:   OK  
PackageFile: DropletUtils_1.15.2.tar.gz
PackageFileSize: 388.1 KiB

Command output

##############################################################################
##############################################################################
###
### Running command:
###
###   chmod a+r DropletUtils -R && D:\biocbuild\bbs-3.15-bioc\R\bin\R.exe CMD build --keep-empty-dirs --no-resave-data DropletUtils
###
##############################################################################
##############################################################################


* checking for file 'DropletUtils/DESCRIPTION' ... OK
* preparing 'DropletUtils':
* checking DESCRIPTION meta-information ... OK
* cleaning src
* installing the package to build vignettes
* creating vignettes ... OK
* cleaning src
* checking for LF line-endings in source and make files and shell scripts
* checking for empty or unneeded directories
* building 'DropletUtils_1.15.2.tar.gz'