Name | Last modified | Size | Description | |
---|---|---|---|---|
Parent Directory | - | |||
buildbin-out.txt | 05-Mar-2024 01:39 | 30K | ||
buildbin-summary.dcf | 05-Mar-2024 01:39 | 561 | ||
buildsrc-out.txt | 05-Mar-2024 01:39 | 866 | ||
buildsrc-summary.dcf | 05-Mar-2024 01:39 | 443 | ||
checksrc-out.txt | 05-Mar-2024 01:39 | 5.1K | ||
checksrc-summary.dcf | 05-Mar-2024 01:39 | 470 | ||
install-out.txt | 05-Mar-2024 01:39 | 28K | ||
install-summary.dcf | 05-Mar-2024 01:39 | 280 | ||