Index of /checkResults/devel/bioc-LATEST/DominoEffect/raw-results/nebbiolo2

[ICO]NameLast modifiedSizeDescription

[DIR]Parent Directory  -  
[TXT]buildsrc-out.txt22-Jun-2024 00:35 850  
[   ]buildsrc-summary.dcf22-Jun-2024 00:35 438  
[TXT]checksrc-out.txt22-Jun-2024 00:35 3.7K 
[   ]checksrc-summary.dcf22-Jun-2024 00:35 434  
[TXT]install-out.txt22-Jun-2024 00:35 1.0K 
[   ]install-summary.dcf22-Jun-2024 00:35 269