Index of /checkResults/devel/bioc-LATEST/DominoEffect/raw-results/merida1

[ICO]NameLast modifiedSizeDescription

[DIR]Parent Directory  -  
[TXT]buildbin-out.txt21-May-2024 00:37 1.2K 
[   ]buildbin-summary.dcf21-May-2024 00:37 561  
[TXT]buildsrc-out.txt21-May-2024 00:37 836  
[   ]buildsrc-summary.dcf21-May-2024 00:37 443  
[TXT]checksrc-out.txt21-May-2024 00:37 3.8K 
[   ]checksrc-summary.dcf21-May-2024 00:37 464  
[TXT]install-out.txt21-May-2024 00:37 1.0K 
[   ]install-summary.dcf21-May-2024 00:37 279