Name | Last modified | Size | Description | |
---|---|---|---|---|
Parent Directory | - | |||
install-out.txt | 18-May-2024 00:38 | 2.6K | ||
install-summary.dcf | 18-May-2024 00:38 | 295 | ||
buildsrc-out.txt | 18-May-2024 00:38 | 961 | ||
buildsrc-summary.dcf | 18-May-2024 00:38 | 466 | ||
checksrc-out.txt | 18-May-2024 00:38 | 4.6K | ||
checksrc-summary.dcf | 18-May-2024 00:38 | 496 | ||
buildbin-summary.dcf | 18-May-2024 00:38 | 608 | ||
buildbin-out.txt | 18-May-2024 00:38 | 4.8K | ||