Name | Last modified | Size | Description | |
---|---|---|---|---|
Parent Directory | - | |||
install-out.txt | 02-May-2024 00:39 | 3.7K | ||
install-summary.dcf | 02-May-2024 00:39 | 299 | ||
buildsrc-summary.dcf | 02-May-2024 00:39 | 471 | ||
buildsrc-out.txt | 02-May-2024 00:39 | 937 | ||
checksrc-out.txt | 02-May-2024 00:39 | 4.6K | ||
checksrc-summary.dcf | 02-May-2024 00:39 | 502 | ||
buildbin-out.txt | 02-May-2024 00:39 | 7.7K | ||
buildbin-summary.dcf | 02-May-2024 00:39 | 618 | ||