Name | Last modified | Size | Description | |
---|---|---|---|---|
Parent Directory | - | |||
buildbin-out.txt | 05-Mar-2024 01:39 | 7.7K | ||
buildbin-summary.dcf | 05-Mar-2024 01:39 | 618 | ||
buildsrc-out.txt | 05-Mar-2024 01:39 | 937 | ||
buildsrc-summary.dcf | 05-Mar-2024 01:39 | 471 | ||
checksrc-out.txt | 05-Mar-2024 01:39 | 4.3K | ||
checksrc-summary.dcf | 05-Mar-2024 01:39 | 502 | ||
install-out.txt | 05-Mar-2024 01:39 | 3.6K | ||
install-summary.dcf | 05-Mar-2024 01:39 | 299 | ||