Back to Multiple platform build/check report for BioC 3.17:   simplified   long
ABC[D]EFGHIJKLMNOPQRSTUVWXYZ

This page was generated on 2023-02-04 11:05:27 -0500 (Sat, 04 Feb 2023).

HostnameOSArch (*)R versionInstalled pkgs
nebbiolo1Linux (Ubuntu 22.04.1 LTS)x86_64R Under development (unstable) (2023-01-10 r83596) -- "Unsuffered Consequences" 4483
palomino3Windows Server 2022 Datacenterx64R Under development (unstable) (2023-01-10 r83596 ucrt) -- "Unsuffered Consequences" 4249
merida1macOS 10.14.6 Mojavex86_64R Under development (unstable) (2023-01-10 r83596) -- "Unsuffered Consequences" 4272
Click on any hostname to see more info about the system (e.g. compilers)      (*) as reported by 'uname -p', except on Windows and Mac OS X

BUILD results for DifferentialRegulation on palomino3


To the developers/maintainers of the DifferentialRegulation package:
- Please allow up to 24 hours (and sometimes 48 hours) for your latest push to git@git.bioconductor.org:packages/DifferentialRegulation.git to
reflect on this report. See How and When does the builder pull? When will my changes propagate? for more information.
- Make sure to use the following settings in order to reproduce any error or warning you see on this page.

raw results

Package 525/2164HostnameOS / ArchINSTALLBUILDCHECKBUILD BIN
DifferentialRegulation 1.3.0  (landing page)
Simone Tiberi
Snapshot Date: 2023-02-03 14:00:22 -0500 (Fri, 03 Feb 2023)
git_url: https://git.bioconductor.org/packages/DifferentialRegulation
git_branch: master
git_last_commit: 22e3ca4
git_last_commit_date: 2022-11-01 11:27:01 -0500 (Tue, 01 Nov 2022)
nebbiolo1Linux (Ubuntu 22.04.1 LTS) / x86_64  OK    OK    OK  UNNEEDED, same version is already published
palomino3Windows Server 2022 Datacenter / x64  OK    OK    OK    OK  UNNEEDED, same version is already published
merida1macOS 10.14.6 Mojave / x86_64  OK    OK    OK    OK  UNNEEDED, same version is already published

Summary

Package: DifferentialRegulation
Version: 1.3.0
Command: chmod a+r DifferentialRegulation -R && F:\biocbuild\bbs-3.17-bioc\R\bin\R.exe CMD build --keep-empty-dirs --no-resave-data DifferentialRegulation
StartedAt: 2023-02-03 18:21:04 -0500 (Fri, 03 Feb 2023)
EndedAt: 2023-02-03 18:22:49 -0500 (Fri, 03 Feb 2023)
EllapsedTime: 104.3 seconds
RetCode: 0
Status:   OK  
PackageFile: DifferentialRegulation_1.3.0.tar.gz
PackageFileSize: 734.9 KiB

Command output

##############################################################################
##############################################################################
###
### Running command:
###
###   chmod a+r DifferentialRegulation -R && F:\biocbuild\bbs-3.17-bioc\R\bin\R.exe CMD build --keep-empty-dirs --no-resave-data DifferentialRegulation
###
##############################################################################
##############################################################################


* checking for file 'DifferentialRegulation/DESCRIPTION' ... OK
* preparing 'DifferentialRegulation':
* checking DESCRIPTION meta-information ... OK
* cleaning src
* installing the package to process help pages
* saving partial Rd database
* creating vignettes ... OK
* cleaning src
* checking for LF line-endings in source and make files and shell scripts
* checking for empty or unneeded directories
* building 'DifferentialRegulation_1.3.0.tar.gz'