Name | Last modified | Size | Description | |
---|---|---|---|---|
Parent Directory | - | |||
buildbin-out.txt | 29-Mar-2024 00:37 | 9.0K | ||
buildbin-summary.dcf | 29-Mar-2024 00:37 | 522 | ||
buildsrc-out.txt | 29-Mar-2024 00:37 | 936 | ||
buildsrc-summary.dcf | 29-Mar-2024 00:37 | 457 | ||
checksrc-out.txt | 29-Mar-2024 00:37 | 17K | ||
checksrc-summary.dcf | 29-Mar-2024 00:37 | 451 | ||
install-out.txt | 29-Mar-2024 00:37 | 8.8K | ||
install-summary.dcf | 29-Mar-2024 00:37 | 271 | ||