Name | Last modified | Size | Description | |
---|---|---|---|---|
Parent Directory | - | |||
buildbin-out.txt | 11-May-2024 00:37 | 5.9K | ||
buildbin-summary.dcf | 11-May-2024 00:37 | 559 | ||
buildsrc-out.txt | 11-May-2024 00:37 | 866 | ||
buildsrc-summary.dcf | 11-May-2024 00:37 | 443 | ||
checksrc-out.txt | 11-May-2024 00:37 | 4.9K | ||
checksrc-summary.dcf | 11-May-2024 00:37 | 528 | ||
install-out.txt | 11-May-2024 00:37 | 3.9K | ||
install-summary.dcf | 11-May-2024 00:37 | 279 | ||