############################################################################## ############################################################################## ### ### Running command: ### ### C:\cygwin\bin\curl.exe -O http://155.52.207.166/BBS/3.16/bioc/src/contrib/DeepBlueR_1.23.0.tar.gz && rm -rf DeepBlueR.buildbin-libdir && mkdir DeepBlueR.buildbin-libdir && F:\biocbuild\bbs-3.16-bioc\R\bin\R.exe CMD INSTALL --merge-multiarch --build --library=DeepBlueR.buildbin-libdir DeepBlueR_1.23.0.tar.gz && F:\biocbuild\bbs-3.16-bioc\R\bin\R.exe CMD INSTALL DeepBlueR_1.23.0.zip && rm DeepBlueR_1.23.0.tar.gz DeepBlueR_1.23.0.zip ### ############################################################################## ############################################################################## % Total % Received % Xferd Average Speed Time Time Time Current Dload Upload Total Spent Left Speed 0 0 0 0 0 0 0 0 --:--:-- --:--:-- --:--:-- 0 100 523k 100 523k 0 0 3502k 0 --:--:-- --:--:-- --:--:-- 3515k only one architecture so ignoring '--merge-multiarch' Warning in untar2(tarfile, files, list, exdir, restore_times) : failed to copy 'DeepBlueR/vignettes/DeepBlueR.Rmd' to 'DeepBlueR/README.md' * installing *source* package 'DeepBlueR' ... ** using staged installation ** R ** demo ** inst ** byte-compile and prepare package for lazy loading Called method: deepblue_list_column_types Reported status was: okay Called method: deepblue_info Reported status was: okay ** help *** installing help indices ** building package indices ** installing vignettes ** testing if installed package can be loaded from temporary location ** testing if installed package can be loaded from final location ** testing if installed package keeps a record of temporary installation path * MD5 sums packaged installation of 'DeepBlueR' as DeepBlueR_1.23.0.zip * DONE (DeepBlueR) * installing to library 'F:/biocbuild/bbs-3.16-bioc/R/library' package 'DeepBlueR' successfully unpacked and MD5 sums checked