![]() | Name | Last modified | Size | Description |
---|---|---|---|---|
![]() | Parent Directory | - | ||
![]() | checksrc-summary.dcf | 10-Aug-2022 00:06 | 458 | |
![]() | buildsrc-summary.dcf | 10-Aug-2022 00:06 | 461 | |
![]() | buildbin-summary.dcf | 10-Aug-2022 00:06 | 545 | |
![]() | install-summary.dcf | 10-Aug-2022 00:06 | 646 | |
![]() | buildsrc-out.txt | 10-Aug-2022 00:06 | 849 | |
![]() | buildbin-out.txt | 10-Aug-2022 00:06 | 1.3K | |
![]() | install-out.txt | 10-Aug-2022 00:06 | 2.1K | |
![]() | checksrc-out.txt | 10-Aug-2022 00:06 | 3.0K | |