Back to Multiple platform build/check report for BioC 3.17: simplified long |
|
This page was generated on 2023-03-24 11:05:12 -0400 (Fri, 24 Mar 2023).
Hostname | OS | Arch (*) | R version | Installed pkgs |
---|---|---|---|---|
nebbiolo1 | Linux (Ubuntu 22.04.1 LTS) | x86_64 | R Under development (unstable) (2023-03-16 r83996) -- "Unsuffered Consequences" | 4546 |
palomino3 | Windows Server 2022 Datacenter | x64 | R Under development (unstable) (2023-03-15 r83984 ucrt) -- "Unsuffered Consequences" | 4307 |
merida1 | macOS 10.14.6 Mojave | x86_64 | R Under development (unstable) (2023-03-16 r83985) -- "Unsuffered Consequences" | 4299 |
Click on any hostname to see more info about the system (e.g. compilers) (*) as reported by 'uname -p', except on Windows and Mac OS X |
To the developers/maintainers of the DeepBlueR package: - Please allow up to 24 hours (and sometimes 48 hours) for your latest push to git@git.bioconductor.org:packages/DeepBlueR.git to reflect on this report. See How and When does the builder pull? When will my changes propagate? for more information. - Make sure to use the following settings in order to reproduce any error or warning you see on this page. |
Package 503/2195 | Hostname | OS / Arch | INSTALL | BUILD | CHECK | BUILD BIN | ||||||||
DeepBlueR 1.25.1 (landing page) Felipe Albrecht
| nebbiolo1 | Linux (Ubuntu 22.04.1 LTS) / x86_64 | OK | OK | OK | ![]() | ||||||||
palomino3 | Windows Server 2022 Datacenter / x64 | OK | OK | OK | OK | ![]() | ||||||||
merida1 | macOS 10.14.6 Mojave / x86_64 | OK | OK | OK | OK | ![]() | ||||||||
Package: DeepBlueR |
Version: 1.25.1 |
Command: /home/biocbuild/bbs-3.17-bioc/R/bin/R CMD check --install=check:DeepBlueR.install-out.txt --library=/home/biocbuild/bbs-3.17-bioc/R/site-library --timings DeepBlueR_1.25.1.tar.gz |
StartedAt: 2023-03-23 19:57:15 -0400 (Thu, 23 Mar 2023) |
EndedAt: 2023-03-23 20:12:36 -0400 (Thu, 23 Mar 2023) |
EllapsedTime: 920.8 seconds |
RetCode: 0 |
Status: OK |
CheckDir: DeepBlueR.Rcheck |
Warnings: 0 |
############################################################################## ############################################################################## ### ### Running command: ### ### /home/biocbuild/bbs-3.17-bioc/R/bin/R CMD check --install=check:DeepBlueR.install-out.txt --library=/home/biocbuild/bbs-3.17-bioc/R/site-library --timings DeepBlueR_1.25.1.tar.gz ### ############################################################################## ############################################################################## * using log directory ‘/home/biocbuild/bbs-3.17-bioc/meat/DeepBlueR.Rcheck’ * using R Under development (unstable) (2023-03-16 r83996) * using platform: x86_64-pc-linux-gnu (64-bit) * R was compiled by gcc (Ubuntu 11.3.0-1ubuntu1~22.04) 11.3.0 GNU Fortran (Ubuntu 11.3.0-1ubuntu1~22.04) 11.3.0 * running under: Ubuntu 22.04.2 LTS * using session charset: UTF-8 * checking for file ‘DeepBlueR/DESCRIPTION’ ... OK * checking extension type ... Package * this is package ‘DeepBlueR’ version ‘1.25.1’ * checking package namespace information ... OK * checking package dependencies ... OK * checking if this is a source package ... OK * checking if there is a namespace ... OK * checking for hidden files and directories ... OK * checking for portable file names ... OK * checking for sufficient/correct file permissions ... OK * checking whether package ‘DeepBlueR’ can be installed ... OK * checking installed package size ... OK * checking package directory ... OK * checking ‘build’ directory ... OK * checking DESCRIPTION meta-information ... OK * checking top-level files ... OK * checking for left-over files ... OK * checking index information ... OK * checking package subdirectories ... NOTE Problems with news in ‘NEWS’: Cannot process chunk/lines: v0.99.0 Initial Bioconductor submission Cannot process chunk/lines: v1.0.0 Bioconductor 3.4 release Cannot process chunk/lines: v1.2.0 Bioconductor 3.5 release Cannot process chunk/lines: v1.4.0 Bioconductor 3.6 release Cannot process chunk/lines: v1.4.1 Bugfixes following changes in the DeepBlue API * checking R files for non-ASCII characters ... OK * checking R files for syntax errors ... OK * checking whether the package can be loaded ... OK * checking whether the package can be loaded with stated dependencies ... OK * checking whether the package can be unloaded cleanly ... OK * checking whether the namespace can be loaded with stated dependencies ... OK * checking whether the namespace can be unloaded cleanly ... OK * checking loading without being on the library search path ... OK * checking startup messages can be suppressed ... OK * checking dependencies in R code ... OK * checking S3 generic/method consistency ... OK * checking replacement functions ... OK * checking foreign function calls ... OK * checking R code for possible problems ... OK * checking Rd files ... NOTE prepare_Rd: deepblue_enrich_regions_fast.Rd:35-38: Dropping empty section \examples * checking Rd metadata ... OK * checking Rd cross-references ... OK * checking for missing documentation entries ... OK * checking for code/documentation mismatches ... OK * checking Rd \usage sections ... OK * checking Rd contents ... OK * checking for unstated dependencies in examples ... OK * checking files in ‘vignettes’ ... OK * checking examples ... OK * checking for unstated dependencies in vignettes ... OK * checking package vignettes in ‘inst/doc’ ... OK * checking running R code from vignettes ... ‘DeepBlueR.Rmd’ using ‘UTF-8’... OK NONE * checking re-building of vignette outputs ... OK * checking PDF version of manual ... OK * DONE Status: 2 NOTEs See ‘/home/biocbuild/bbs-3.17-bioc/meat/DeepBlueR.Rcheck/00check.log’ for details.
DeepBlueR.Rcheck/00install.out
############################################################################## ############################################################################## ### ### Running command: ### ### /home/biocbuild/bbs-3.17-bioc/R/bin/R CMD INSTALL DeepBlueR ### ############################################################################## ############################################################################## * installing to library ‘/home/biocbuild/bbs-3.17-bioc/R/site-library’ * installing *source* package ‘DeepBlueR’ ... ** using staged installation ** R ** demo ** inst ** byte-compile and prepare package for lazy loading Called method: deepblue_list_column_types Reported status was: okay Called method: deepblue_info Reported status was: okay ** help *** installing help indices ** building package indices ** installing vignettes ** testing if installed package can be loaded from temporary location ** testing if installed package can be loaded from final location ** testing if installed package keeps a record of temporary installation path * DONE (DeepBlueR)
DeepBlueR.Rcheck/DeepBlueR-Ex.timings
name | user | system | elapsed | |
deepblue_aggregate | 0.053 | 0.004 | 0.856 | |
deepblue_batch_export_results | 0.354 | 0.048 | 3.315 | |
deepblue_binning | 0.081 | 0.024 | 0.675 | |
deepblue_cache_status | 0.003 | 0.000 | 0.004 | |
deepblue_cancel_request | 0.013 | 0.003 | 0.296 | |
deepblue_chromosomes | 0.067 | 0.000 | 0.349 | |
deepblue_clear_cache | 0.002 | 0.000 | 0.001 | |
deepblue_collection_experiments_count | 0.088 | 0.000 | 0.606 | |
deepblue_commands | 0.082 | 0.016 | 1.507 | |
deepblue_count_gene_ontology_terms | 0.099 | 0.000 | 0.597 | |
deepblue_count_regions | 0.033 | 0.000 | 0.577 | |
deepblue_coverage | 0.024 | 0.004 | 0.573 | |
deepblue_delete_request_from_cache | 0.000 | 0.003 | 0.003 | |
deepblue_diff | 0.117 | 0.028 | 0.707 | |
deepblue_distinct_column_values | 0.023 | 0.012 | 0.602 | |
deepblue_download_request_data | 0.188 | 0.031 | 1.586 | |
deepblue_echo | 0.007 | 0.004 | 0.495 | |
deepblue_enrich_regions_go_terms | 0.059 | 0.012 | 0.853 | |
deepblue_enrich_regions_overlap | 0.452 | 0.052 | 4.608 | |
deepblue_export_bed | 0.240 | 0.008 | 2.164 | |
deepblue_export_meta_data | 0.277 | 0.000 | 0.668 | |
deepblue_export_tab | 0.097 | 0.005 | 1.150 | |
deepblue_extend | 0.036 | 0.000 | 0.579 | |
deepblue_extract_ids | 0.001 | 0.000 | 0.001 | |
deepblue_extract_names | 0.001 | 0.000 | 0.000 | |
deepblue_faceting_experiments | 0.027 | 0.000 | 0.697 | |
deepblue_filter_regions | 0.031 | 0.000 | 0.272 | |
deepblue_find_motif | 0.021 | 0.000 | 0.305 | |
deepblue_flank | 0.055 | 0.000 | 0.592 | |
deepblue_get_biosource_children | 0.020 | 0.003 | 0.309 | |
deepblue_get_biosource_parents | 0.017 | 0.000 | 0.297 | |
deepblue_get_biosource_related | 0.021 | 0.000 | 0.310 | |
deepblue_get_biosource_synonyms | 0.020 | 0.000 | 0.303 | |
deepblue_get_experiments_by_query | 0.016 | 0.000 | 0.295 | |
deepblue_get_regions | 0.040 | 0.000 | 0.583 | |
deepblue_get_request_data | 0.098 | 0.004 | 1.229 | |
deepblue_info | 0.038 | 0.004 | 0.327 | |
deepblue_input_regions | 0.015 | 0.003 | 0.329 | |
deepblue_intersection | 0.070 | 0.001 | 0.877 | |
deepblue_is_biosource | 0.008 | 0.011 | 0.304 | |
deepblue_liftover | 0.378 | 0.032 | 2.765 | |
deepblue_list_annotations | 0.023 | 0.000 | 0.306 | |
deepblue_list_biosources | 0.018 | 0.000 | 0.300 | |
deepblue_list_cached_requests | 0.002 | 0.000 | 0.002 | |
deepblue_list_column_types | 0.072 | 0.004 | 0.466 | |
deepblue_list_epigenetic_marks | 0.322 | 0.004 | 1.463 | |
deepblue_list_experiments | 0.139 | 0.000 | 0.772 | |
deepblue_list_expressions | 0.104 | 0.004 | 0.610 | |
deepblue_list_gene_models | 0.014 | 0.000 | 0.300 | |
deepblue_list_genes | 0.293 | 0.008 | 1.756 | |
deepblue_list_genomes | 0.014 | 0.000 | 0.298 | |
deepblue_list_in_use | 0.337 | 0.003 | 1.974 | |
deepblue_list_projects | 0.008 | 0.004 | 0.259 | |
deepblue_list_recent_experiments | 0.021 | 0.001 | 0.300 | |
deepblue_list_requests | 0.018 | 0.003 | 0.309 | |
deepblue_list_samples | 0.158 | 0.012 | 1.018 | |
deepblue_list_similar_biosources | 0.015 | 0.003 | 0.436 | |
deepblue_list_similar_epigenetic_marks | 0.029 | 0.001 | 0.281 | |
deepblue_list_similar_experiments | 0.019 | 0.003 | 0.897 | |
deepblue_list_similar_genomes | 0.020 | 0.000 | 0.304 | |
deepblue_list_similar_projects | 0.016 | 0.004 | 0.304 | |
deepblue_list_similar_techniques | 0.014 | 0.000 | 0.286 | |
deepblue_list_techniques | 0.021 | 0.000 | 0.259 | |
deepblue_merge_queries | 0.06 | 0.00 | 0.87 | |
deepblue_meta_data_to_table | 0.305 | 0.012 | 0.976 | |
deepblue_name_to_id | 0.043 | 0.004 | 0.878 | |
deepblue_overlap | 0.057 | 0.000 | 0.861 | |
deepblue_preview_experiment | 0.015 | 0.004 | 0.305 | |
deepblue_query_cache | 0.094 | 0.000 | 1.158 | |
deepblue_query_experiment_type | 0.059 | 0.000 | 0.625 | |
deepblue_reset_options | 0.001 | 0.000 | 0.000 | |
deepblue_score_matrix | 0.062 | 0.000 | 0.622 | |
deepblue_search | 0.036 | 0.003 | 0.647 | |
deepblue_select_annotations | 0.023 | 0.001 | 0.305 | |
deepblue_select_column | 0.318 | 0.000 | 1.583 | |
deepblue_select_experiments | 0.016 | 0.000 | 0.302 | |
deepblue_select_expressions | 0.022 | 0.000 | 0.259 | |
deepblue_select_genes | 0.025 | 0.000 | 0.307 | |
deepblue_select_regions | 0.038 | 0.000 | 0.326 | |
deepblue_tiling_regions | 0.023 | 0.000 | 0.301 | |