Back to Multiple platform build/check report for BioC 3.17:   simplified   long
ABC[D]EFGHIJKLMNOPQRSTUVWXYZ

This page was generated on 2023-02-07 11:05:10 -0500 (Tue, 07 Feb 2023).

HostnameOSArch (*)R versionInstalled pkgs
nebbiolo1Linux (Ubuntu 22.04.1 LTS)x86_64R Under development (unstable) (2023-01-10 r83596) -- "Unsuffered Consequences" 4483
palomino3Windows Server 2022 Datacenterx64R Under development (unstable) (2023-01-10 r83596 ucrt) -- "Unsuffered Consequences" 4249
merida1macOS 10.14.6 Mojavex86_64R Under development (unstable) (2023-01-10 r83596) -- "Unsuffered Consequences" 4272
Click on any hostname to see more info about the system (e.g. compilers)      (*) as reported by 'uname -p', except on Windows and Mac OS X

BUILD results for DeepBlueR on nebbiolo1


To the developers/maintainers of the DeepBlueR package:
- Please allow up to 24 hours (and sometimes 48 hours) for your latest push to git@git.bioconductor.org:packages/DeepBlueR.git to
reflect on this report. See How and When does the builder pull? When will my changes propagate? for more information.
- Make sure to use the following settings in order to reproduce any error or warning you see on this page.

raw results

Package 486/2164HostnameOS / ArchINSTALLBUILDCHECKBUILD BIN
DeepBlueR 1.25.1  (landing page)
Felipe Albrecht , Markus List , Quirin Manz
Snapshot Date: 2023-02-06 14:00:21 -0500 (Mon, 06 Feb 2023)
git_url: https://git.bioconductor.org/packages/DeepBlueR
git_branch: master
git_last_commit: 950d10c
git_last_commit_date: 2023-01-10 05:24:28 -0500 (Tue, 10 Jan 2023)
nebbiolo1Linux (Ubuntu 22.04.1 LTS) / x86_64  OK    OK    OK  UNNEEDED, same version is already published
palomino3Windows Server 2022 Datacenter / x64  OK    OK    OK    OK  UNNEEDED, same version is already published
merida1macOS 10.14.6 Mojave / x86_64  OK    OK    OK    OK  UNNEEDED, same version is already published

Summary

Package: DeepBlueR
Version: 1.25.1
Command: /home/biocbuild/bbs-3.17-bioc/R/bin/R CMD build --keep-empty-dirs --no-resave-data DeepBlueR
StartedAt: 2023-02-06 16:20:57 -0500 (Mon, 06 Feb 2023)
EndedAt: 2023-02-06 16:31:52 -0500 (Mon, 06 Feb 2023)
EllapsedTime: 655.2 seconds
RetCode: 0
Status:   OK  
PackageFile: DeepBlueR_1.25.1.tar.gz
PackageFileSize: 1.623 MiB

Command output

##############################################################################
##############################################################################
###
### Running command:
###
###   /home/biocbuild/bbs-3.17-bioc/R/bin/R CMD build --keep-empty-dirs --no-resave-data DeepBlueR
###
##############################################################################
##############################################################################


* checking for file ‘DeepBlueR/DESCRIPTION’ ... OK
* preparing ‘DeepBlueR’:
* checking DESCRIPTION meta-information ... OK
* installing the package to build vignettes
* creating vignettes ... OK
* checking for LF line-endings in source and make files and shell scripts
* checking for empty or unneeded directories
* building ‘DeepBlueR_1.25.1.tar.gz’