Back to Multiple platform build/check report for BioC 3.17
ABC[D]EFGHIJKLMNOPQRSTUVWXYZ

This page was generated on 2023-01-28 11:08:35 -0500 (Sat, 28 Jan 2023).

HostnameOSArch (*)R versionInstalled pkgs
nebbiolo1Linux (Ubuntu 22.04.1 LTS)x86_64R Under development (unstable) (2023-01-10 r83596) -- "Unsuffered Consequences" 4465
palomino3Windows Server 2022 Datacenterx64R Under development (unstable) (2023-01-10 r83596 ucrt) -- "Unsuffered Consequences" 4246
merida1macOS 10.14.6 Mojavex86_64R Under development (unstable) (2023-01-10 r83596) -- "Unsuffered Consequences" 4269
Click on any hostname to see more info about the system (e.g. compilers)      (*) as reported by 'uname -p', except on Windows and Mac OS X

BUILD BIN results for DeepBlueR on merida1


To the developers/maintainers of the DeepBlueR package:
- Please allow up to 24 hours (and sometimes 48 hours) for your latest push to git@git.bioconductor.org:packages/DeepBlueR.git to
reflect on this report. See How and When does the builder pull? When will my changes propagate? for more information.
- Make sure to use the following settings in order to reproduce any error or warning you see on this page.

raw results

Package 485/2162HostnameOS / ArchINSTALLBUILDCHECKBUILD BIN
DeepBlueR 1.25.1  (landing page)
Felipe Albrecht , Markus List , Quirin Manz
Snapshot Date: 2023-01-27 14:00:19 -0500 (Fri, 27 Jan 2023)
git_url: https://git.bioconductor.org/packages/DeepBlueR
git_branch: master
git_last_commit: 950d10c
git_last_commit_date: 2023-01-10 05:24:28 -0500 (Tue, 10 Jan 2023)
nebbiolo1Linux (Ubuntu 22.04.1 LTS) / x86_64  OK    OK    OK  UNNEEDED, same version is already published
palomino3Windows Server 2022 Datacenter / x64  OK    OK    OK    OK  UNNEEDED, same version is already published
merida1macOS 10.14.6 Mojave / x86_64  OK    OK    OK    OK  UNNEEDED, same version is already published

Summary

Package: DeepBlueR
Version: 1.25.1
Command: rm -rf DeepBlueR.buildbin-libdir && mkdir DeepBlueR.buildbin-libdir && /Users/biocbuild/BBS/utils/build-universal.sh DeepBlueR_1.25.1.tar.gz /Library/Frameworks/R.framework/Resources/bin/R DeepBlueR.buildbin-libdir
StartedAt: 2023-01-28 09:00:41 -0500 (Sat, 28 Jan 2023)
EndedAt: 2023-01-28 09:02:59 -0500 (Sat, 28 Jan 2023)
EllapsedTime: 138.1 seconds
RetCode: 0
Status:   OK  
PackageFile: DeepBlueR_1.25.1.tgz
PackageFileSize: 1.692 MiB

Command output

##############################################################################
##############################################################################
###
### Running command:
###
###   rm -rf DeepBlueR.buildbin-libdir && mkdir DeepBlueR.buildbin-libdir && /Users/biocbuild/BBS/utils/build-universal.sh DeepBlueR_1.25.1.tar.gz /Library/Frameworks/R.framework/Resources/bin/R DeepBlueR.buildbin-libdir
###
##############################################################################
##############################################################################


>>>>>>> 
>>>>>>> INSTALLATION WITH 'R CMD INSTALL --preclean --no-multiarch --library=DeepBlueR.buildbin-libdir DeepBlueR_1.25.1.tar.gz'
>>>>>>> 

* installing *source* package ‘DeepBlueR’ ...
** using staged installation
** R
** demo
** inst
** byte-compile and prepare package for lazy loading
Called method: deepblue_list_column_types
Reported status was: okay
Called method: deepblue_info
Reported status was: okay
** help
*** installing help indices
** building package indices
** installing vignettes
** testing if installed package can be loaded from temporary location
** testing if installed package can be loaded from final location
** testing if installed package keeps a record of temporary installation path
* DONE (DeepBlueR)