Back to Multiple platform build/check report for BioC 3.14
ABC[D]EFGHIJKLMNOPQRSTUVWXYZ

This page was generated on 2021-10-18 12:04:02 -0400 (Mon, 18 Oct 2021).

INSTALL results for DaMiRseq on riesling1

To the developers/maintainers of the DaMiRseq package:
- Please allow up to 24 hours (and sometimes 48 hours) for your latest push to git@git.bioconductor.org:packages/DaMiRseq.git to
reflect on this report. See How and When does the builder pull? When will my changes propagate? here for more information.
- Make sure to use the following settings in order to reproduce any error or warning you see on this page.

raw results

Package 442/2060HostnameOS / ArchINSTALLBUILDCHECKBUILD BIN
DaMiRseq 2.5.4  (landing page)
Mattia Chiesa
Snapshot Date: 2021-10-17 14:50:03 -0400 (Sun, 17 Oct 2021)
git_url: https://git.bioconductor.org/packages/DaMiRseq
git_branch: master
git_last_commit: 318c280
git_last_commit_date: 2021-08-19 09:06:35 -0400 (Thu, 19 Aug 2021)
nebbiolo2Linux (Ubuntu 20.04.2 LTS) / x86_64  OK    OK    WARNINGS  UNNEEDED, same version is already published
riesling1Windows Server 2019 Standard / x64  OK    OK    WARNINGS    OK  UNNEEDED, same version is already published
merida1macOS 10.14.6 Mojave / x86_64  OK    OK    WARNINGS    OK  UNNEEDED, same version is already published

Summary

Package: DaMiRseq
Version: 2.5.4
Command: D:\biocbuild\bbs-3.14-bioc\R\bin\R.exe --arch x64 CMD INSTALL --no-multiarch DaMiRseq
StartedAt: 2021-10-17 18:44:23 -0400 (Sun, 17 Oct 2021)
EndedAt: 2021-10-17 18:47:19 -0400 (Sun, 17 Oct 2021)
EllapsedTime: 175.4 seconds
RetCode: 0
Status:   OK  

Command output

##############################################################################
##############################################################################
###
### Running command:
###
###   D:\biocbuild\bbs-3.14-bioc\R\bin\R.exe --arch x64 CMD INSTALL --no-multiarch DaMiRseq
###
##############################################################################
##############################################################################


* installing to library 'D:/biocbuild/bbs-3.14-bioc/R/library'
* installing *source* package 'DaMiRseq' ...
** using staged installation
** R
** data
*** moving datasets to lazyload DB
** inst
** byte-compile and prepare package for lazy loading
** help
*** installing help indices
  converting help for package 'DaMiRseq'
    finding HTML links ... done
    DaMiR.Allplot                           html  
    DaMiR.Clustplot                         html  
    DaMiR.EnsL_Predict                      html  
    DaMiR.EnsL_Test                         html  
    DaMiR.EnsL_Train                        html  
    DaMiR.EnsembleLearning                  html  
    DaMiR.EnsembleLearning2cl               html  
    DaMiR.EnsembleLearningNcl               html  
    DaMiR.FBest                             html  
    DaMiR.FReduct                           html  
    finding level-2 HTML links ... done

    DaMiR.FSelect                           html  
    DaMiR.FSort                             html  
    DaMiR.MDSplot                           html  
    DaMiR.ModelSelect                       html  
    DaMiR.SV                                html  
    DaMiR.SVadjust                          html  
    DaMiR.corrplot                          html  
    DaMiR.goldenDice                        html  
    DaMiR.iTSadjust                         html  
    DaMiR.iTSnorm                           html  
    DaMiR.makeSE                            html  
    DaMiR.normalization                     html  
    DaMiR.sampleFilt                        html  
    DaMiR.transpose                         html  
    SE                                      html  
    SEtest_norm                             html  
    data_min                                html  
    data_norm                               html  
    data_reduced                            html  
    data_relief                             html  
    df                                      html  
    selected_features                       html  
    sv                                      html  
** building package indices
** installing vignettes
** testing if installed package can be loaded from temporary location
** testing if installed package can be loaded from final location
** testing if installed package keeps a record of temporary installation path
* DONE (DaMiRseq)
Making 'packages.html' ... done