Back to Multiple platform build/check report for BioC 3.15
ABC[D]EFGHIJKLMNOPQRSTUVWXYZ

This page was generated on 2022-01-27 11:07:06 -0500 (Thu, 27 Jan 2022).

HostnameOSArch (*)R versionInstalled pkgs
nebbiolo1Linux (Ubuntu 20.04.4 LTS)x86_64R Under development (unstable) (2022-01-05 r81451) -- "Unsuffered Consequences" 4167
riesling1Windows Server 2019 Standardx64R Under development (unstable) (2021-11-21 r81221) -- "Unsuffered Consequences" 4062
palomino3Windows Server 2022 Datacenterx64R Under development (unstable) (2021-12-21 r81400 ucrt) -- "Unsuffered Consequences" 4004
merida1macOS 10.14.6 Mojavex86_64R Under development (unstable) (2022-01-05 r81451) -- "Unsuffered Consequences" 4121
Click on any hostname to see more info about the system (e.g. compilers)      (*) as reported by 'uname -p', except on Windows and Mac OS X

INSTALL results for DRIMSeq on riesling1


To the developers/maintainers of the DRIMSeq package:
- Please allow up to 24 hours (and sometimes 48 hours) for your latest push to git@git.bioconductor.org:packages/DRIMSeq.git to
reflect on this report. See How and When does the builder pull? When will my changes propagate? here for more information.
- Make sure to use the following settings in order to reproduce any error or warning you see on this page.

raw results

Package 543/2077HostnameOS / ArchINSTALLBUILDCHECKBUILD BIN
DRIMSeq 1.23.0  (landing page)
Malgorzata Nowicka
Snapshot Date: 2022-01-26 13:55:18 -0500 (Wed, 26 Jan 2022)
git_url: https://git.bioconductor.org/packages/DRIMSeq
git_branch: master
git_last_commit: 6156d62
git_last_commit_date: 2021-10-26 12:26:21 -0500 (Tue, 26 Oct 2021)
nebbiolo1Linux (Ubuntu 20.04.4 LTS) / x86_64  OK    OK    WARNINGS  UNNEEDED, same version is already published
riesling1Windows Server 2019 Standard / x64  OK    OK    WARNINGS    NA  
palomino3Windows Server 2022 Datacenter / x64  OK    OK    WARNINGS    OK  NO, package depends on 'GenomicRanges' which is not available
merida1macOS 10.14.6 Mojave / x86_64  OK    OK    WARNINGS    OK  UNNEEDED, same version is already published

Summary

Package: DRIMSeq
Version: 1.23.0
Command: D:\biocbuild\bbs-3.15-bioc\R\bin\R.exe CMD INSTALL DRIMSeq
StartedAt: 2022-01-26 15:38:55 -0500 (Wed, 26 Jan 2022)
EndedAt: 2022-01-26 15:39:54 -0500 (Wed, 26 Jan 2022)
EllapsedTime: 59.0 seconds
RetCode: 0
Status:   OK  

Command output

##############################################################################
##############################################################################
###
### Running command:
###
###   D:\biocbuild\bbs-3.15-bioc\R\bin\R.exe CMD INSTALL DRIMSeq
###
##############################################################################
##############################################################################


* installing to library 'D:/biocbuild/bbs-3.15-bioc/R/library'
* installing *source* package 'DRIMSeq' ...
** using staged installation
** R
** inst
** preparing package for lazy loading
Creating a new generic function for 'proportions' in package 'DRIMSeq'
** help
*** installing help indices
  converting help for package 'DRIMSeq'
    finding HTML links ... done
    MatrixList-class                        html  
    dmDSdata-class                          html  
    dmDSdata                                html  
    dmDSfit-class                           html  
    dmDSprecision-class                     html  
    dmDStest-class                          html  
    dmFilter                                html  
    dmFit                                   html  
    finding level-2 HTML links ... done

    dmPrecision                             html  
    dmSQTLdata-class                        html  
    dmSQTLdata                              html  
    dmSQTLfit-class                         html  
    dmSQTLprecision-class                   html  
    dmSQTLtest-class                        html  
    dmTest                                  html  
    dm_plotDataDSInfo                       html  
    dm_plotProportions                      html  
    plotData                                html  
    plotPValues                             html  
    plotPrecision                           html  
    plotProportions                         html  
** building package indices
** installing vignettes
** testing if installed package can be loaded from temporary location
** testing if installed package can be loaded from final location
** testing if installed package keeps a record of temporary installation path
* DONE (DRIMSeq)
Making 'packages.html' ...Warning in packageDescription(i, lib.loc = lib, fields = "Title", encoding = "UTF-8") :
  DESCRIPTION file of package 'InteractionSet' is missing or broken
Warning in packageDescription(i, lib.loc = lib, fields = "Title", encoding = "UTF-8") :
  DESCRIPTION file of package 'SplicingFactory' is missing or broken
 done